BEGIN:VCALENDAR
VERSION:2.0
PRODID:-//Fabrication Additive en Normandie - ECPv6.15.17.1//NONSGML v1.0//EN
CALSCALE:GREGORIAN
METHOD:PUBLISH
X-WR-CALNAME:Fabrication Additive en Normandie
X-ORIGINAL-URL:https://www.fabrication-additive-normandie.fr
X-WR-CALDESC:Évènements pour Fabrication Additive en Normandie
REFRESH-INTERVAL;VALUE=DURATION:PT1H
X-Robots-Tag:noindex
X-PUBLISHED-TTL:PT1H
BEGIN:VTIMEZONE
TZID:Europe/Paris
BEGIN:DAYLIGHT
TZOFFSETFROM:+0100
TZOFFSETTO:+0200
TZNAME:CEST
DTSTART:20250330T010000
END:DAYLIGHT
BEGIN:STANDARD
TZOFFSETFROM:+0200
TZOFFSETTO:+0100
TZNAME:CET
DTSTART:20251026T010000
END:STANDARD
BEGIN:DAYLIGHT
TZOFFSETFROM:+0100
TZOFFSETTO:+0200
TZNAME:CEST
DTSTART:20260329T010000
END:DAYLIGHT
BEGIN:STANDARD
TZOFFSETFROM:+0200
TZOFFSETTO:+0100
TZNAME:CET
DTSTART:20261025T010000
END:STANDARD
BEGIN:DAYLIGHT
TZOFFSETFROM:+0100
TZOFFSETTO:+0200
TZNAME:CEST
DTSTART:20270328T010000
END:DAYLIGHT
BEGIN:STANDARD
TZOFFSETFROM:+0200
TZOFFSETTO:+0100
TZNAME:CET
DTSTART:20271031T010000
END:STANDARD
END:VTIMEZONE
BEGIN:VEVENT
DTSTART;VALUE=DATE:20260702
DTEND;VALUE=DATE:20260703
DTSTAMP:20260420T232040
CREATED:20241125T135922Z
LAST-MODIFIED:20260324T143140Z
UID:3399-1782950400-1783036799@www.fabrication-additive-normandie.fr
SUMMARY:Symposium FAN 2026
DESCRIPTION:SYMPOSIUM FAN\nle 2 Juillet 2026 au Havre (76)\nParticipez à la 5ème édition des rendez-vous annuel de la Fabrication Additive en Normandie ! \nUn événement ouvert à tous les professionnels souhaitant approfondir leurs connaissances sur l’impression 3D. \n\n  Explorez les approches Low Tech & High Tech\, de la conception sobre orientée ROI aux matériaux avancés.\n\nObjectifs : \n\nPartager des retours d’expérience et des perspectives croisées\nDécouvrir les innovations et tendances de la fabrication additive\nÉchanger avec des industriels et chercheurs du domaine\n\nProgramme : \n\nOuverture et introduction – FAN\nTendances du Formnext 2025 – Polymeris & FAN\nTable ronde :\n\nLa fabrication additive chez les PME – conception sobre et low tech : inspiration intersectorielle \n\nPitchs exposants & sponsors\nDéjeuner et networking B2B\n\nSessions High Tech : \n\nComposites\, ultra-polymères\, 3D Silicon\, métal\, céramique\n\nPossibilité d’exposition de satnd avec pitch de compétences pour valoriser votre savoir-faire et vos solutions. \nPartenaires de l’évènement :  \n\nFAN\nNAE\nNextMove\n\nSollicitez vos pôles et filières pour bénéficier d’un accès gratuit ! \nDétail et programme ICI\nLien pour la billetterie
URL:https://www.fabrication-additive-normandie.fr/evenement/symposium-fan-2025/
LOCATION:la cité du numérique\, 20 Quai Frissard\, Le Havre\, 76600
ATTACH;FMTTYPE=image/png:https://www.fabrication-additive-normandie.fr/wp-content/uploads/sites/19/2024/11/a4b7ddc5-dbc4-4f61-a445-4c212ae1c9e8-Copie.png
END:VEVENT
END:VCALENDAR